BEGIN:VCALENDAR
VERSION:2.0
PRODID:-//ChamberMaster//Event Calendar 2.0//EN
METHOD:PUBLISH
X-PUBLISHED-TTL:P1H
REFRESH-INTERVAL:P1H
CALSCALE:GREGORIAN
BEGIN:VTIMEZONE
TZID:America/New_York
BEGIN:DAYLIGHT
RRULE:FREQ=YEARLY;BYMONTH=3;BYDAY=2SU
DTSTART:20070101T000000
TZOFFSETFROM:-0500
TZOFFSETTO:-0400
TZNAME:Eastern Daylight Time
END:DAYLIGHT
BEGIN:STANDARD
RRULE:FREQ=YEARLY;BYMONTH=11;BYDAY=1SU
DTSTART:20070101T000000
TZOFFSETFROM:-0400
TZOFFSETTO:-0500
TZNAME:Eastern Standard Time
END:STANDARD
END:VTIMEZONE
BEGIN:VEVENT
DTSTART;TZID=America/New_York:20250916T180000
DTEND;TZID=America/New_York:20250916T200000
X-MICROSOFT-CDO-ALLDAYEVENT:FALSE
SUMMARY:Adult Beginner & Intermediate Wheel Throwing
DESCRIPTION:Beginners: Explore the art and basics of the clay craft that humanity has endeavored in for centuries. In this class\, you will experience throwing on the potter's wheel and learn to make useful pots that you can show to friends and family. You will also learn the basics of surface decorations\, especially glazing. There will be demonstrations and hands-on work in the class. At the class's end\, you will enjoy the confidence to work with clay. Intermediate: Explore the art of clay beyond the fundamentals and into the technicals. Learn how to understand details: execute your ideas\, skill building with the material. Learn the means of manipulating clay to achieve desired results. This involves training your eyes to see which things matter\, and why they make a difference. You will experience demonstrations of throwing more complex shapes\, with hands-on opportunities. At the class's end\, you will enjoy the confidence of a well-rounded potter\, knowing the complexities\, opportunities\, boundaries\, and limitations of clay and be able to demonstrate higher craftsmanship. \nMATERIALS LISTStudents will be provided with a 25 lb bag of stoneware clay (cones 5-6) and a variety of glaze options. \nINSTRUCTOR BIOKilian excels in authentic pottery\, uniquely crafting his glazes and clays\, a testament to his dedication. This mastery has yielded significant achievements\, including a commission from North Carolina's Cultural Resources for their definitive heritage poetry collection. His museum-quality work has been featured in the Imperial Art Centre's HANDCRAFTED Exhibition in 2017\, 2022\, and will be again in 2025\, confirming his status as a leading contemporary ceramicist. He also serves as a ceramic authority and interpreter for Popular Forest\, and a commemorative partner of VA250. From his fully-equipped studio in Chatham\, VA\, Kilian continues to elevate heritage pottery\, setting a high standard of excellence and preserving a vital aspect of American art history. \nCANCELLATION POLICYCancellations made 1 week or more in advance of the class date will receive a 100% refund. Cancellations made within 3 - 6 days will receive a 50% refund. Cancellations made within 48 hours to the class will not be refunded.Students will have the option to transfer registration to another class in place of receiving a refund.Special consideration will be given to cancellations due to health-related issues and family emergencies.If you plan miss a session of class\, please inform your instructor\, or email our Program Coordinator\, Lauren Hood\, at L.hood@bowercenter.orgThere will be no refunds or discounts given for missed classes.
X-ALT-DESC;FMTTYPE=text/html:<!DOCTYPE html><html><head><title></title></head><body aria-disabled="false"><p><strong fr-original-style="" style="font-weight: 700\;">Beginners:</strong> Explore the art and basics of the clay craft that humanity has endeavored in for centuries. In this class\, you will experience throwing on the potter&rsquo\;s wheel and learn to make useful pots that you can show to friends and family. You will also learn the basics of surface decorations\, especially glazing. There will be demonstrations and hands-on work in the class. At the class&rsquo\;s end\, you will enjoy the confidence to work with clay.&nbsp\;</p><p><strong fr-original-style="" style="font-weight: 700\;">Intermediate:</strong> Explore the art of clay beyond the fundamentals and into the technicals. Learn how to understand details: execute your ideas\, skill building with the material. Learn the means of manipulating clay to achieve desired results. This involves training your eyes to see which things matter\, and why they make a difference. You will experience demonstrations of throwing more complex shapes\, with hands-on opportunities. At the class&rsquo\;s end\, you will enjoy the confidence of a well-rounded potter\, knowing the complexities\, opportunities\, boundaries\, and limitations of clay and be able to demonstrate higher craftsmanship.&nbsp\;</p><p><br></p><p>MATERIALS LIST</p><p>Students will be provided with a 25 lb bag of stoneware clay (cones 5-6) and a variety of glaze options.&nbsp\;</p><p><br></p><p>INSTRUCTOR BIO</p><p>Kilian excels in authentic pottery\, uniquely crafting his glazes and clays\, a testament to his dedication. This mastery has yielded significant achievements\, including a commission from North Carolina&#39\;s Cultural Resources for their definitive heritage poetry collection. His museum-quality work has been featured in the Imperial Art Centre&#39\;s HANDCRAFTED Exhibition in 2017\, 2022\, and will be again in 2025\, confirming his status as a leading contemporary ceramicist. He also serves as a ceramic authority and interpreter for Popular Forest\, and a commemorative partner of VA250. From his fully-equipped studio in Chatham\, VA\, Kilian continues to elevate heritage pottery\, setting a high standard of excellence and preserving a vital aspect of American art history. </p><p><br></p><p style="box-sizing: border-box\; margin: 0px 0px 1rem\; font-family: Montserrat\, sans-serif\; font-size: 16px\; font-style: normal\; font-variant-ligatures: normal\; font-variant-caps: normal\; font-weight: 400\; letter-spacing: normal\; orphans: 2\; text-align: start\; text-indent: 0px\; text-transform: none\; widows: 2\; word-spacing: 0px\; -webkit-text-stroke-width: 0px\; white-space: normal\; text-decoration-thickness: initial\; text-decoration-style: initial\; text-decoration-color: initial\; background-color: rgb(255\, 255\, 255)\; color: rgb(0\, 0\, 0)\;">CANCELLATION POLICY</p><ul fr-original-style="list-style-type: circle\;" style="list-style-type: circle\; list-style-position: inside\;"><li style="box-sizing: border-box\; margin-top: 0px\; margin-right: 0px\; margin-bottom: 1rem\; font-family: Montserrat\, sans-serif\; font-size: 16px\; font-style: normal\; font-variant-ligatures: normal\; font-variant-caps: normal\; font-weight: 400\; letter-spacing: normal\; orphans: 2\; text-align: start\; text-indent: 0px\; text-transform: none\; widows: 2\; word-spacing: 0px\; -webkit-text-stroke-width: 0px\; white-space: normal\; text-decoration-thickness: initial\; text-decoration-style: initial\; text-decoration-color: initial\; background-color: rgb(255\, 255\, 255)\; color: rgb(0\, 0\, 0)\;"><span style="box-sizing: border-box\; font-family: Arial\, Helvetica\, sans-serif\;"><span style="box-sizing: border-box\;"><span style="box-sizing: border-box\;"><span style="box-sizing: border-box\;">Cancellations made 1 week or more in advance of the class date will receive a 100% refund. Cancellations made within 3 - 6 days will receive a 50% refund. Cancellations made within 48 hours to the class will not be refunded.</span></span></span></span></li><li style="box-sizing: border-box\; margin-top: 0px\; margin-right: 0px\; margin-bottom: 1rem\; font-family: Montserrat\, sans-serif\; font-size: 16px\; font-style: normal\; font-variant-ligatures: normal\; font-variant-caps: normal\; font-weight: 400\; letter-spacing: normal\; orphans: 2\; text-align: start\; text-indent: 0px\; text-transform: none\; widows: 2\; word-spacing: 0px\; -webkit-text-stroke-width: 0px\; white-space: normal\; text-decoration-thickness: initial\; text-decoration-style: initial\; text-decoration-color: initial\; background-color: rgb(255\, 255\, 255)\; color: rgb(0\, 0\, 0)\;"><span style="box-sizing: border-box\; font-family: Arial\, Helvetica\, sans-serif\;"><span style="box-sizing: border-box\;"><span style="box-sizing: border-box\;"><span style="box-sizing: border-box\;">Students will have the option to transfer registration to another class in place of receiving a refund.</span></span></span></span></li><li style="box-sizing: border-box\; margin-top: 0px\; margin-right: 0px\; margin-bottom: 1rem\; font-family: Montserrat\, sans-serif\; font-size: 16px\; font-style: normal\; font-variant-ligatures: normal\; font-variant-caps: normal\; font-weight: 400\; letter-spacing: normal\; orphans: 2\; text-align: start\; text-indent: 0px\; text-transform: none\; widows: 2\; word-spacing: 0px\; -webkit-text-stroke-width: 0px\; white-space: normal\; text-decoration-thickness: initial\; text-decoration-style: initial\; text-decoration-color: initial\; background-color: rgb(255\, 255\, 255)\; color: rgb(0\, 0\, 0)\;"><span style="box-sizing: border-box\; font-family: Arial\, Helvetica\, sans-serif\;"><span style="box-sizing: border-box\;"><span style="box-sizing: border-box\;"><span style="box-sizing: border-box\;">Special consideration will be given to cancellations due to health-related issues and family emergencies.</span></span></span></span></li><li style="box-sizing: border-box\; margin-top: 0px\; margin-right: 0px\; margin-bottom: 1rem\; font-family: Montserrat\, sans-serif\; font-size: 16px\; font-style: normal\; font-variant-ligatures: normal\; font-variant-caps: normal\; font-weight: 400\; letter-spacing: normal\; orphans: 2\; text-align: start\; text-indent: 0px\; text-transform: none\; widows: 2\; word-spacing: 0px\; -webkit-text-stroke-width: 0px\; white-space: normal\; text-decoration-thickness: initial\; text-decoration-style: initial\; text-decoration-color: initial\; background-color: rgb(255\, 255\, 255)\; color: rgb(0\, 0\, 0)\;"><span style="box-sizing: border-box\; font-family: Arial\, Helvetica\, sans-serif\;"><span style="box-sizing: border-box\;"><span style="box-sizing: border-box\;"><span style="box-sizing: border-box\;">If you plan miss a session of class\, please inform your instructor\, or email our Program Coordinator\, Lauren Hood\, at <strong fr-original-style="box-sizing: border-box\; font-weight: 700\;" style="box-sizing: border-box\; font-weight: 700\;">L.hood@bowercenter.org</strong></span></span></span></span></li><li style="box-sizing: border-box\; margin-top: 0px\; margin-right: 0px\; margin-bottom: 1rem\; font-family: Montserrat\, sans-serif\; font-size: 16px\; font-style: normal\; font-variant-ligatures: normal\; font-variant-caps: normal\; font-weight: 400\; letter-spacing: normal\; orphans: 2\; text-align: start\; text-indent: 0px\; text-transform: none\; widows: 2\; word-spacing: 0px\; -webkit-text-stroke-width: 0px\; white-space: normal\; text-decoration-thickness: initial\; text-decoration-style: initial\; text-decoration-color: initial\; background-color: rgb(255\, 255\, 255)\; color: rgb(0\, 0\, 0)\;"><span style="box-sizing: border-box\; font-family: Arial\, Helvetica\, sans-serif\;"><span style="box-sizing: border-box\;">There will be no refunds or discounts given for missed classes.</span></span></li></ul></body></html>
LOCATION:305 N. BRIDGE STREET Bedford VA 24523
UID:e.1991.1232853
SEQUENCE:3
DTSTAMP:20260420T004950Z
URL:https://members.bowercenter.org/call-for-artists/Details/adult-beginner-intermediate-wheel-throwing-1440211?sourceTypeId=Hub
END:VEVENT
END:VCALENDAR
